BEGIN:VCALENDAR
VERSION:2.0
PRODID:-//Juventus Official Fan Club - ECPv6.15.20//NONSGML v1.0//EN
CALSCALE:GREGORIAN
METHOD:PUBLISH
X-ORIGINAL-URL:https://www.jofctoronto.com
X-WR-CALDESC:Events for Juventus Official Fan Club
REFRESH-INTERVAL;VALUE=DURATION:PT1H
X-Robots-Tag:noindex
X-PUBLISHED-TTL:PT1H
BEGIN:VTIMEZONE
TZID:UTC
BEGIN:STANDARD
TZOFFSETFROM:+0000
TZOFFSETTO:+0000
TZNAME:UTC
DTSTART:20210101T000000
END:STANDARD
END:VTIMEZONE
BEGIN:VEVENT
DTSTART;TZID=UTC:20220807T144500
DTEND;TZID=UTC:20220807T170000
DTSTAMP:20260421T123651
CREATED:20220721T044505Z
LAST-MODIFIED:20220721T044505Z
UID:10704-1659883500-1659891600@www.jofctoronto.com
SUMMARY:Juventus vs Atlético Madrid
DESCRIPTION:
URL:https://www.jofctoronto.com/event/juventus-vs-atletico-madrid/
LOCATION:Ontario
CATEGORIES:Club Friendlies
ATTACH;FMTTYPE=image/jpeg:https://www.jofctoronto.com/wp-content/uploads/2022/07/pexels-pixabay-47354.jpg
END:VEVENT
END:VCALENDAR