BEGIN:VCALENDAR
VERSION:2.0
PRODID:-//Juventus Official Fan Club - ECPv6.15.20//NONSGML v1.0//EN
CALSCALE:GREGORIAN
METHOD:PUBLISH
X-WR-CALNAME:Juventus Official Fan Club
X-ORIGINAL-URL:https://www.jofctoronto.com
X-WR-CALDESC:Events for Juventus Official Fan Club
REFRESH-INTERVAL;VALUE=DURATION:PT1H
X-Robots-Tag:noindex
X-PUBLISHED-TTL:PT1H
BEGIN:VTIMEZONE
TZID:UTC
BEGIN:STANDARD
TZOFFSETFROM:+0000
TZOFFSETTO:+0000
TZNAME:UTC
DTSTART:20240101T000000
END:STANDARD
END:VTIMEZONE
BEGIN:VEVENT
DTSTART;TZID=UTC:20251123T120000
DTEND;TZID=UTC:20251123T170000
DTSTAMP:20260421T224146
CREATED:20251008T020615Z
LAST-MODIFIED:20251008T020615Z
UID:11490-1763899200-1763917200@www.jofctoronto.com
SUMMARY:Poker Tournament
DESCRIPTION:Join us on Sunday\, November 23 at Bellvue Manor in Vaughan for Poker Day in support of SickKids & My MS Family. \nEnjoy lunch\, play poker\, or both—all for two great causes. \nFor tickets\, email us at: \npresident@jofctoronto.com\nvp@jofctoronto.com\ntreasurer@jofctoronto.com \nPayments to be made c/o e-transfer to: \ntreasurer@jofctoronto.com
URL:https://www.jofctoronto.com/event/poker-tournament/
LOCATION:Bellvue Manor\, 8083 Jane Street\, Concord\, Ontario\, L4K2M7\, Canada
CATEGORIES:Fundraisers
ATTACH;FMTTYPE=image/jpeg:https://www.jofctoronto.com/wp-content/uploads/2025/10/Juve-Poker-event.jpg
END:VEVENT
END:VCALENDAR